Package: GeneNetworkBuilder Version: 1.46.0 Command: /Library/Frameworks/R.framework/Resources/bin/R CMD check --install=check:GeneNetworkBuilder.install-out.txt --library=/Library/Frameworks/R.framework/Resources/library --no-vignettes --timings GeneNetworkBuilder_1.46.0.tar.gz StartedAt: 2024-10-17 05:44:01 -0400 (Thu, 17 Oct 2024) EndedAt: 2024-10-17 05:45:59 -0400 (Thu, 17 Oct 2024) EllapsedTime: 117.9 seconds RetCode: 0 Status: OK CheckDir: GeneNetworkBuilder.Rcheck Warnings: 0