Package: GeneNetworkBuilder Version: 1.46.0 Command: /Library/Frameworks/R.framework/Resources/bin/R CMD build --keep-empty-dirs --no-resave-data GeneNetworkBuilder StartedAt: 2024-10-16 19:27:32 -0400 (Wed, 16 Oct 2024) EndedAt: 2024-10-16 19:40:57 -0400 (Wed, 16 Oct 2024) EllapsedTime: 805.0 seconds RetCode: 0 Status: OK PackageFile: GeneNetworkBuilder_1.46.0.tar.gz PackageFileSize: 8.629 MiB