Package: GeneNetworkBuilder Version: 1.46.0 Command: /Library/Frameworks/R.framework/Resources/bin/R CMD check --install=check:GeneNetworkBuilder.install-out.txt --library=/Library/Frameworks/R.framework/Resources/library --no-vignettes --timings GeneNetworkBuilder_1.46.0.tar.gz StartedAt: 2024-06-09 20:32:04 -0400 (Sun, 09 Jun 2024) EndedAt: 2024-06-09 20:33:10 -0400 (Sun, 09 Jun 2024) EllapsedTime: 66.7 seconds RetCode: 0 Status: OK CheckDir: GeneNetworkBuilder.Rcheck Warnings: 0