Package: GeneNetworkBuilder Version: 1.46.0 Command: /home/biocbuild/R/R-beta-2024-04-15_r86425/bin/R CMD INSTALL GeneNetworkBuilder StartedAt: 2024-05-08 20:34:10 -0000 (Wed, 08 May 2024) EndedAt: 2024-05-08 20:34:38 -0000 (Wed, 08 May 2024) EllapsedTime: 28.2 seconds RetCode: 0 Status: OK