Package: GeneNetworkBuilder Version: 1.46.0 Command: /home/biocbuild/R/R-beta-2024-04-15_r86425/bin/R CMD check --install=check:GeneNetworkBuilder.install-out.txt --library=/home/biocbuild/R/R-beta-2024-04-15_r86425/site-library --no-vignettes --timings GeneNetworkBuilder_1.46.0.tar.gz StartedAt: 2024-05-09 07:39:43 -0000 (Thu, 09 May 2024) EndedAt: 2024-05-09 07:40:46 -0000 (Thu, 09 May 2024) EllapsedTime: 63.1 seconds RetCode: 0 Status: OK CheckDir: GeneNetworkBuilder.Rcheck Warnings: 0