Package: GeneNetworkBuilder Version: 1.46.0 Command: /Library/Frameworks/R.framework/Resources/bin/R CMD check --install=check:GeneNetworkBuilder.install-out.txt --library=/Library/Frameworks/R.framework/Resources/library --no-vignettes --timings GeneNetworkBuilder_1.46.0.tar.gz StartedAt: 2024-06-10 16:35:19 -0400 (Mon, 10 Jun 2024) EndedAt: 2024-06-10 16:37:02 -0400 (Mon, 10 Jun 2024) EllapsedTime: 103.1 seconds RetCode: 0 Status: OK CheckDir: GeneNetworkBuilder.Rcheck Warnings: 0