Package: GeneNetworkBuilder Version: 1.46.0 Command: /Library/Frameworks/R.framework/Resources/bin/R CMD build --keep-empty-dirs --no-resave-data GeneNetworkBuilder StartedAt: 2024-06-09 21:57:45 -0400 (Sun, 09 Jun 2024) EndedAt: 2024-06-09 22:08:38 -0400 (Sun, 09 Jun 2024) EllapsedTime: 652.9 seconds RetCode: 0 Status: OK PackageFile: GeneNetworkBuilder_1.46.0.tar.gz PackageFileSize: 8.629 MiB