Package: GeneNetworkBuilder Version: 1.46.0 Command: /Library/Frameworks/R.framework/Resources/bin/R CMD INSTALL GeneNetworkBuilder StartedAt: 2024-10-16 17:12:16 -0400 (Wed, 16 Oct 2024) EndedAt: 2024-10-16 17:12:35 -0400 (Wed, 16 Oct 2024) EllapsedTime: 19.2 seconds RetCode: 0 Status: OK