Package: GeneNetworkBuilder Version: 1.46.0 Command: /Library/Frameworks/R.framework/Resources/bin/R CMD build --keep-empty-dirs --no-resave-data GeneNetworkBuilder StartedAt: 2024-10-17 01:00:29 -0400 (Thu, 17 Oct 2024) EndedAt: 2024-10-17 01:08:42 -0400 (Thu, 17 Oct 2024) EllapsedTime: 493.6 seconds RetCode: 0 Status: OK PackageFile: GeneNetworkBuilder_1.46.0.tar.gz PackageFileSize: 8.629 MiB