Package: GeneNetworkBuilder Version: 1.46.0 Command: rm -rf GeneNetworkBuilder.buildbin-libdir && mkdir GeneNetworkBuilder.buildbin-libdir && /Users/biocbuild/BBS/utils/build-universal.sh GeneNetworkBuilder_1.46.0.tar.gz /Library/Frameworks/R.framework/Resources/bin/R GeneNetworkBuilder.buildbin-libdir StartedAt: 2024-10-18 18:38:14 -0400 (Fri, 18 Oct 2024) EndedAt: 2024-10-18 18:38:41 -0400 (Fri, 18 Oct 2024) EllapsedTime: 27.3 seconds RetCode: 0 Status: OK PackageFile: GeneNetworkBuilder_1.46.0.tgz PackageFileSize: 8.923 MiB