Package: GeneMeta Version: 1.76.0 Command: /home/biocbuild/bbs-3.19-bioc/R/bin/R CMD check --install=check:GeneMeta.install-out.txt --library=/home/biocbuild/bbs-3.19-bioc/R/site-library --timings GeneMeta_1.76.0.tar.gz StartedAt: 2024-10-17 00:42:01 -0400 (Thu, 17 Oct 2024) EndedAt: 2024-10-17 00:43:33 -0400 (Thu, 17 Oct 2024) EllapsedTime: 92.2 seconds RetCode: 0 Status: OK CheckDir: GeneMeta.Rcheck Warnings: 0