Package: GeneMeta Version: 1.76.0 Command: rm -rf GeneMeta.buildbin-libdir && mkdir GeneMeta.buildbin-libdir && /Users/biocbuild/BBS/utils/build-universal.sh GeneMeta_1.76.0.tar.gz /Library/Frameworks/R.framework/Resources/bin/R GeneMeta.buildbin-libdir StartedAt: 2024-06-11 11:21:06 -0400 (Tue, 11 Jun 2024) EndedAt: 2024-06-11 11:21:34 -0400 (Tue, 11 Jun 2024) EllapsedTime: 27.5 seconds RetCode: 0 Status: OK PackageFile: GeneMeta_1.76.0.tgz PackageFileSize: 2.738 MiB