Package: GeneGeneInteR Version: 1.30.0 Command: chmod a+r GeneGeneInteR -R && E:\biocbuild\bbs-3.19-bioc\R\bin\R.exe CMD build --keep-empty-dirs --no-resave-data GeneGeneInteR StartedAt: 2024-10-16 19:21:08 -0400 (Wed, 16 Oct 2024) EndedAt: 2024-10-16 19:22:04 -0400 (Wed, 16 Oct 2024) EllapsedTime: 55.6 seconds RetCode: 0 Status: OK PackageFile: GeneGeneInteR_1.30.0.tar.gz PackageFileSize: 1.004 MiB