Package: GeneGeneInteR Version: 1.30.0 Command: rm -rf GeneGeneInteR.buildbin-libdir && mkdir GeneGeneInteR.buildbin-libdir && E:\biocbuild\bbs-3.19-bioc\R\bin\R.exe CMD INSTALL --build --library=GeneGeneInteR.buildbin-libdir GeneGeneInteR_1.30.0.tar.gz StartedAt: 2024-10-17 07:50:32 -0400 (Thu, 17 Oct 2024) EndedAt: 2024-10-17 07:51:27 -0400 (Thu, 17 Oct 2024) EllapsedTime: 54.8 seconds RetCode: 0 Status: OK PackageFile: GeneGeneInteR_1.30.0.zip PackageFileSize: 1.121 MiB