Package: GeneGeneInteR Version: 1.30.0 Command: F:\biocbuild\bbs-3.19-bioc\R\bin\R.exe CMD INSTALL GeneGeneInteR StartedAt: 2024-06-26 16:40:48 -0400 (Wed, 26 Jun 2024) EndedAt: 2024-06-26 16:41:28 -0400 (Wed, 26 Jun 2024) EllapsedTime: 39.7 seconds RetCode: 0 Status: OK