Package: GeneGeneInteR Version: 1.30.0 Command: chmod a+r GeneGeneInteR -R && F:\biocbuild\bbs-3.19-bioc\R\bin\R.exe CMD build --keep-empty-dirs --no-resave-data GeneGeneInteR StartedAt: 2024-06-26 19:05:21 -0400 (Wed, 26 Jun 2024) EndedAt: 2024-06-26 19:06:08 -0400 (Wed, 26 Jun 2024) EllapsedTime: 46.9 seconds RetCode: 0 Status: OK PackageFile: GeneGeneInteR_1.30.0.tar.gz PackageFileSize: 1.002 MiB