Package: GeneGeneInteR Version: 1.30.0 Command: rm -rf GeneGeneInteR.buildbin-libdir && mkdir GeneGeneInteR.buildbin-libdir && F:\biocbuild\bbs-3.19-bioc\R\bin\R.exe CMD INSTALL --build --library=GeneGeneInteR.buildbin-libdir GeneGeneInteR_1.30.0.tar.gz StartedAt: 2024-06-27 08:15:29 -0400 (Thu, 27 Jun 2024) EndedAt: 2024-06-27 08:16:09 -0400 (Thu, 27 Jun 2024) EllapsedTime: 39.8 seconds RetCode: 0 Status: OK PackageFile: GeneGeneInteR_1.30.0.zip PackageFileSize: 1.12 MiB