Package: GeneGeneInteR Version: 1.30.0 Command: /home/biocbuild/bbs-3.19-bioc/R/bin/R CMD INSTALL GeneGeneInteR StartedAt: 2024-10-16 16:36:20 -0400 (Wed, 16 Oct 2024) EndedAt: 2024-10-16 16:36:44 -0400 (Wed, 16 Oct 2024) EllapsedTime: 23.3 seconds RetCode: 0 Status: OK