Package: GeneGeneInteR Version: 1.30.0 Command: /Library/Frameworks/R.framework/Resources/bin/R CMD INSTALL GeneGeneInteR StartedAt: 2024-10-16 16:32:14 -0400 (Wed, 16 Oct 2024) EndedAt: 2024-10-16 16:33:13 -0400 (Wed, 16 Oct 2024) EllapsedTime: 58.7 seconds RetCode: 0 Status: OK