Package: GeneGeneInteR Version: 1.30.0 Command: /Library/Frameworks/R.framework/Resources/bin/R CMD build --keep-empty-dirs --no-resave-data GeneGeneInteR StartedAt: 2024-10-16 19:27:21 -0400 (Wed, 16 Oct 2024) EndedAt: 2024-10-16 19:28:46 -0400 (Wed, 16 Oct 2024) EllapsedTime: 84.5 seconds RetCode: 0 Status: OK PackageFile: GeneGeneInteR_1.30.0.tar.gz PackageFileSize: 1.276 MiB