Package: GeneGeneInteR Version: 1.30.0 Command: rm -rf GeneGeneInteR.buildbin-libdir && mkdir GeneGeneInteR.buildbin-libdir && /Users/biocbuild/BBS/utils/build-universal.sh GeneGeneInteR_1.30.0.tar.gz /Library/Frameworks/R.framework/Resources/bin/R GeneGeneInteR.buildbin-libdir StartedAt: 2024-10-17 16:13:26 -0400 (Thu, 17 Oct 2024) EndedAt: 2024-10-17 16:14:34 -0400 (Thu, 17 Oct 2024) EllapsedTime: 67.5 seconds RetCode: 0 Status: OK PackageFile: GeneGeneInteR_1.30.0.tgz PackageFileSize: 1.37 MiB