Package: GeneGeneInteR Version: 1.30.0 Command: /Library/Frameworks/R.framework/Resources/bin/R CMD INSTALL GeneGeneInteR StartedAt: 2024-06-09 17:13:27 -0400 (Sun, 09 Jun 2024) EndedAt: 2024-06-09 17:14:02 -0400 (Sun, 09 Jun 2024) EllapsedTime: 34.6 seconds RetCode: 0 Status: OK