Package: GeneGeneInteR Version: 1.30.0 Command: /Library/Frameworks/R.framework/Resources/bin/R CMD check --install=check:GeneGeneInteR.install-out.txt --library=/Library/Frameworks/R.framework/Resources/library --no-vignettes --timings GeneGeneInteR_1.30.0.tar.gz StartedAt: 2024-06-10 16:33:57 -0400 (Mon, 10 Jun 2024) EndedAt: 2024-06-10 16:38:06 -0400 (Mon, 10 Jun 2024) EllapsedTime: 249.4 seconds RetCode: 0 Status: OK CheckDir: GeneGeneInteR.Rcheck Warnings: 0