Package: GeneGeneInteR Version: 1.30.0 Command: /Library/Frameworks/R.framework/Resources/bin/R CMD INSTALL GeneGeneInteR StartedAt: 2024-10-16 18:19:38 -0400 (Wed, 16 Oct 2024) EndedAt: 2024-10-16 18:20:07 -0400 (Wed, 16 Oct 2024) EllapsedTime: 28.9 seconds RetCode: 0 Status: OK