Package: GeneExpressionSignature Version: 1.50.0 Command: rm -rf GeneExpressionSignature.buildbin-libdir && mkdir GeneExpressionSignature.buildbin-libdir && E:\biocbuild\bbs-3.19-bioc\R\bin\R.exe CMD INSTALL --build --library=GeneExpressionSignature.buildbin-libdir GeneExpressionSignature_1.50.0.tar.gz StartedAt: 2024-10-17 07:50:25 -0400 (Thu, 17 Oct 2024) EndedAt: 2024-10-17 07:52:21 -0400 (Thu, 17 Oct 2024) EllapsedTime: 116.1 seconds RetCode: 0 Status: OK PackageFile: GeneExpressionSignature_1.50.0.zip PackageFileSize: 2.53 MiB