Package: GeneExpressionSignature Version: 1.50.0 Command: chmod a+r GeneExpressionSignature -R && F:\biocbuild\bbs-3.19-bioc\R\bin\R.exe CMD build --keep-empty-dirs --no-resave-data GeneExpressionSignature StartedAt: 2024-06-26 19:05:14 -0400 (Wed, 26 Jun 2024) EndedAt: 2024-06-26 19:05:41 -0400 (Wed, 26 Jun 2024) EllapsedTime: 27.3 seconds RetCode: 0 Status: OK PackageFile: GeneExpressionSignature_1.50.0.tar.gz PackageFileSize: 2.545 MiB