Package: GeneExpressionSignature Version: 1.50.0 Command: rm -rf GeneExpressionSignature.buildbin-libdir && mkdir GeneExpressionSignature.buildbin-libdir && /Users/biocbuild/BBS/utils/build-universal.sh GeneExpressionSignature_1.50.0.tar.gz /Library/Frameworks/R.framework/Resources/bin/R GeneExpressionSignature.buildbin-libdir StartedAt: 2024-06-10 00:19:23 -0400 (Mon, 10 Jun 2024) EndedAt: 2024-06-10 00:19:30 -0400 (Mon, 10 Jun 2024) EllapsedTime: 6.7 seconds RetCode: 0 Status: OK PackageFile: GeneExpressionSignature_1.50.0.tgz PackageFileSize: 2.525 MiB