Package: GeneExpressionSignature Version: 1.50.0 Command: /home/biocbuild/R/R-beta-2024-04-15_r86425/bin/R CMD check --install=check:GeneExpressionSignature.install-out.txt --library=/home/biocbuild/R/R-beta-2024-04-15_r86425/site-library --no-vignettes --timings GeneExpressionSignature_1.50.0.tar.gz StartedAt: 2024-05-09 07:38:50 -0000 (Thu, 09 May 2024) EndedAt: 2024-05-09 07:39:43 -0000 (Thu, 09 May 2024) EllapsedTime: 53.1 seconds RetCode: 0 Status: OK CheckDir: GeneExpressionSignature.Rcheck Warnings: 0