Package: GeneBreak Version: 1.34.0 Command: rm -rf GeneBreak.buildbin-libdir && mkdir GeneBreak.buildbin-libdir && E:\biocbuild\bbs-3.19-bioc\R\bin\R.exe CMD INSTALL --build --library=GeneBreak.buildbin-libdir GeneBreak_1.34.0.tar.gz StartedAt: 2024-10-17 07:50:13 -0400 (Thu, 17 Oct 2024) EndedAt: 2024-10-17 07:51:02 -0400 (Thu, 17 Oct 2024) EllapsedTime: 48.8 seconds RetCode: 0 Status: OK PackageFile: GeneBreak_1.34.0.zip PackageFileSize: 4.445 MiB