Package: GeneBreak Version: 1.34.0 Command: /home/biocbuild/bbs-3.19-bioc/R/bin/R CMD build --keep-empty-dirs --no-resave-data GeneBreak StartedAt: 2024-10-16 18:37:06 -0400 (Wed, 16 Oct 2024) EndedAt: 2024-10-16 18:37:36 -0400 (Wed, 16 Oct 2024) EllapsedTime: 30.1 seconds RetCode: 0 Status: OK PackageFile: GeneBreak_1.34.0.tar.gz PackageFileSize: 4.141 MiB