Package: GeneBreak Version: 1.34.0 Command: /Library/Frameworks/R.framework/Resources/bin/R CMD build --keep-empty-dirs --no-resave-data GeneBreak StartedAt: 2024-10-16 19:26:39 -0400 (Wed, 16 Oct 2024) EndedAt: 2024-10-16 19:27:57 -0400 (Wed, 16 Oct 2024) EllapsedTime: 78.3 seconds RetCode: 0 Status: OK PackageFile: GeneBreak_1.34.0.tar.gz PackageFileSize: 4.274 MiB