Package: GeneBreak Version: 1.34.0 Command: /home/biocbuild/R/R-beta-2024-04-15_r86425/bin/R CMD build --keep-empty-dirs --no-resave-data GeneBreak StartedAt: 2024-05-09 00:27:21 -0000 (Thu, 09 May 2024) EndedAt: 2024-05-09 00:28:02 -0000 (Thu, 09 May 2024) EllapsedTime: 41.1 seconds RetCode: 0 Status: OK PackageFile: GeneBreak_1.34.0.tar.gz PackageFileSize: 4.263 MiB