Package: GeneBreak Version: 1.34.0 Command: rm -rf GeneBreak.buildbin-libdir && mkdir GeneBreak.buildbin-libdir && /Users/biocbuild/BBS/utils/build-universal.sh GeneBreak_1.34.0.tar.gz /Library/Frameworks/R.framework/Resources/bin/R GeneBreak.buildbin-libdir StartedAt: 2024-06-11 11:20:39 -0400 (Tue, 11 Jun 2024) EndedAt: 2024-06-11 11:21:04 -0400 (Tue, 11 Jun 2024) EllapsedTime: 25.1 seconds RetCode: 0 Status: OK PackageFile: GeneBreak_1.34.0.tgz PackageFileSize: 4.566 MiB