Package: GenVisR Version: 1.36.0 Command: /home/biocbuild/bbs-3.19-bioc/R/bin/R CMD check --install=check:GenVisR.install-out.txt --library=/home/biocbuild/bbs-3.19-bioc/R/site-library --timings GenVisR_1.36.0.tar.gz StartedAt: 2024-10-17 00:51:09 -0400 (Thu, 17 Oct 2024) EndedAt: 2024-10-17 01:02:45 -0400 (Thu, 17 Oct 2024) EllapsedTime: 695.4 seconds RetCode: 0 Status: OK CheckDir: GenVisR.Rcheck Warnings: 0