Package: GenVisR Version: 1.36.0 Command: rm -rf GenVisR.buildbin-libdir && mkdir GenVisR.buildbin-libdir && /Users/biocbuild/BBS/utils/build-universal.sh GenVisR_1.36.0.tar.gz /Library/Frameworks/R.framework/Resources/bin/R GenVisR.buildbin-libdir StartedAt: 2024-06-10 00:19:57 -0400 (Mon, 10 Jun 2024) EndedAt: 2024-06-10 00:21:07 -0400 (Mon, 10 Jun 2024) EllapsedTime: 70.0 seconds RetCode: 0 Status: OK PackageFile: GenVisR_1.36.0.tgz PackageFileSize: 4.091 MiB