Package: GenProSeq Version: 1.8.0 Command: rm -rf GenProSeq.buildbin-libdir && mkdir GenProSeq.buildbin-libdir && F:\biocbuild\bbs-3.19-bioc\R\bin\R.exe CMD INSTALL --build --library=GenProSeq.buildbin-libdir GenProSeq_1.8.0.tar.gz StartedAt: 2024-06-27 08:16:38 -0400 (Thu, 27 Jun 2024) EndedAt: 2024-06-27 08:17:02 -0400 (Thu, 27 Jun 2024) EllapsedTime: 23.4 seconds RetCode: 0 Status: OK PackageFile: GenProSeq_1.8.0.zip PackageFileSize: 1.039 MiB