Package: GenProSeq Version: 1.8.0 Command: /Library/Frameworks/R.framework/Resources/bin/R CMD build --keep-empty-dirs --no-resave-data GenProSeq StartedAt: 2024-06-09 16:46:56 -0400 (Sun, 09 Jun 2024) EndedAt: 2024-06-09 16:49:01 -0400 (Sun, 09 Jun 2024) EllapsedTime: 125.0 seconds RetCode: 0 Status: OK PackageFile: GenProSeq_1.8.0.tar.gz PackageFileSize: 2.388 MiB