Package: GenProSeq Version: 1.8.0 Command: /home/biocbuild/R/R-beta-2024-04-15_r86425/bin/R CMD check --install=check:GenProSeq.install-out.txt --library=/home/biocbuild/R/R-beta-2024-04-15_r86425/site-library --no-vignettes --timings GenProSeq_1.8.0.tar.gz StartedAt: 2024-05-09 07:46:23 -0000 (Thu, 09 May 2024) EndedAt: 2024-05-09 07:48:26 -0000 (Thu, 09 May 2024) EllapsedTime: 123.2 seconds RetCode: 0 Status: OK CheckDir: GenProSeq.Rcheck Warnings: 0