Package: GenProSeq Version: 1.8.0 Command: /Library/Frameworks/R.framework/Resources/bin/R CMD build --keep-empty-dirs --no-resave-data GenProSeq StartedAt: 2024-10-17 01:13:22 -0400 (Thu, 17 Oct 2024) EndedAt: 2024-10-17 01:13:43 -0400 (Thu, 17 Oct 2024) EllapsedTime: 20.6 seconds RetCode: 0 Status: OK PackageFile: GenProSeq_1.8.0.tar.gz PackageFileSize: 1.115 MiB