Package: GeDi Version: 1.0.0 Command: rm -rf GeDi.buildbin-libdir && mkdir GeDi.buildbin-libdir && /Users/biocbuild/BBS/utils/build-universal.sh GeDi_1.0.0.tar.gz /Library/Frameworks/R.framework/Resources/bin/R GeDi.buildbin-libdir StartedAt: 2024-06-11 11:20:08 -0400 (Tue, 11 Jun 2024) EndedAt: 2024-06-11 11:21:06 -0400 (Tue, 11 Jun 2024) EllapsedTime: 58.4 seconds RetCode: 0 Status: OK PackageFile: GeDi_1.0.0.tgz PackageFileSize: 2.747 MiB