Package: GeDi Version: 1.0.1 Command: /Library/Frameworks/R.framework/Resources/bin/R CMD check --install=check:GeDi.install-out.txt --library=/Library/Frameworks/R.framework/Resources/library --no-vignettes --timings GeDi_1.0.1.tar.gz StartedAt: 2024-10-17 22:25:53 -0400 (Thu, 17 Oct 2024) EndedAt: 2024-10-17 22:38:05 -0400 (Thu, 17 Oct 2024) EllapsedTime: 732.2 seconds RetCode: 0 Status: OK CheckDir: GeDi.Rcheck Warnings: 0