Package: GateFinder Version: 1.24.0 Command: rm -rf GateFinder.buildbin-libdir && mkdir GateFinder.buildbin-libdir && E:\biocbuild\bbs-3.19-bioc\R\bin\R.exe CMD INSTALL --build --library=GateFinder.buildbin-libdir GateFinder_1.24.0.tar.gz StartedAt: 2024-10-17 07:49:26 -0400 (Thu, 17 Oct 2024) EndedAt: 2024-10-17 07:49:50 -0400 (Thu, 17 Oct 2024) EllapsedTime: 23.6 seconds RetCode: 0 Status: OK PackageFile: GateFinder_1.24.0.zip PackageFileSize: 865.6 KiB