Package: GateFinder Version: 1.24.0 Command: /Library/Frameworks/R.framework/Resources/bin/R CMD INSTALL GateFinder StartedAt: 2024-10-16 15:23:57 -0400 (Wed, 16 Oct 2024) EndedAt: 2024-10-16 15:24:33 -0400 (Wed, 16 Oct 2024) EllapsedTime: 35.8 seconds RetCode: 0 Status: OK