Package: GateFinder Version: 1.24.0 Command: /Library/Frameworks/R.framework/Resources/bin/R CMD build --keep-empty-dirs --no-resave-data GateFinder StartedAt: 2024-10-16 19:23:43 -0400 (Wed, 16 Oct 2024) EndedAt: 2024-10-16 19:24:35 -0400 (Wed, 16 Oct 2024) EllapsedTime: 52.8 seconds RetCode: 0 Status: OK PackageFile: GateFinder_1.24.0.tar.gz PackageFileSize: 582.2 KiB