Package: GateFinder Version: 1.24.0 Command: rm -rf GateFinder.buildbin-libdir && mkdir GateFinder.buildbin-libdir && /Users/biocbuild/BBS/utils/build-universal.sh GateFinder_1.24.0.tar.gz /Library/Frameworks/R.framework/Resources/bin/R GateFinder.buildbin-libdir StartedAt: 2024-10-18 18:35:18 -0400 (Fri, 18 Oct 2024) EndedAt: 2024-10-18 18:35:36 -0400 (Fri, 18 Oct 2024) EllapsedTime: 18.4 seconds RetCode: 0 Status: OK PackageFile: GateFinder_1.24.0.tgz PackageFileSize: 958.8 KiB