Package: GWENA Version: 1.14.0 Command: rm -rf GWENA.buildbin-libdir && mkdir GWENA.buildbin-libdir && /Users/biocbuild/BBS/utils/build-universal.sh GWENA_1.14.0.tar.gz /Library/Frameworks/R.framework/Resources/bin/R GWENA.buildbin-libdir StartedAt: 2024-06-10 00:21:40 -0400 (Mon, 10 Jun 2024) EndedAt: 2024-06-10 00:22:30 -0400 (Mon, 10 Jun 2024) EllapsedTime: 50.5 seconds RetCode: 0 Status: OK PackageFile: GWENA_1.14.0.tgz PackageFileSize: 4.669 MiB