Package: GWENA Version: 1.14.0 Command: /Library/Frameworks/R.framework/Resources/bin/R CMD check --install=check:GWENA.install-out.txt --library=/Library/Frameworks/R.framework/Resources/library --no-vignettes --timings GWENA_1.14.0.tar.gz StartedAt: 2024-10-18 00:15:12 -0400 (Fri, 18 Oct 2024) EndedAt: 2024-10-18 00:25:28 -0400 (Fri, 18 Oct 2024) EllapsedTime: 615.6 seconds RetCode: 0 Status: WARNINGS CheckDir: GWENA.Rcheck Warnings: 2