Package: GWASTools Version: 1.50.0 Command: /home/biocbuild/R/R-beta-2024-04-15_r86425/bin/R CMD check --install=check:GWASTools.install-out.txt --library=/home/biocbuild/R/R-beta-2024-04-15_r86425/site-library --no-vignettes --timings GWASTools_1.50.0.tar.gz StartedAt: 2024-05-09 08:12:43 -0000 (Thu, 09 May 2024) EndedAt: 2024-05-09 08:18:16 -0000 (Thu, 09 May 2024) EllapsedTime: 333.6 seconds RetCode: 0 Status: OK CheckDir: GWASTools.Rcheck Warnings: 0