Package: GWAS.BAYES Version: 1.14.0 Command: E:\biocbuild\bbs-3.19-bioc\R\bin\R.exe CMD INSTALL GWAS.BAYES StartedAt: 2024-10-16 17:07:10 -0400 (Wed, 16 Oct 2024) EndedAt: 2024-10-16 17:07:22 -0400 (Wed, 16 Oct 2024) EllapsedTime: 11.7 seconds RetCode: 0 Status: OK