Package: GWAS.BAYES Version: 1.14.0 Command: chmod a+r GWAS.BAYES -R && E:\biocbuild\bbs-3.19-bioc\R\bin\R.exe CMD build --keep-empty-dirs --no-resave-data GWAS.BAYES StartedAt: 2024-10-16 19:37:30 -0400 (Wed, 16 Oct 2024) EndedAt: 2024-10-16 19:41:38 -0400 (Wed, 16 Oct 2024) EllapsedTime: 247.5 seconds RetCode: 0 Status: OK PackageFile: GWAS.BAYES_1.14.0.tar.gz PackageFileSize: 1.346 MiB